BEGIN:VCALENDAR
PRODID:-//eluceo/ical//2.0/EN
VERSION:2.0
CALSCALE:GREGORIAN
BEGIN:VEVENT
UID:bdd43dd5d4f5ef5f1cdf0ed5b9f43b56
DTSTAMP:20260422T023215Z
SUMMARY:THE CAKEMAKER
DESCRIPTION:United Jewish Federation of Utah\nCalendar\nhttps://shalomutah.
 org/united-jewish-federation-of-utah-calendar/the-cakemaker-1533597164\n\n
 Thomas\, a young German baker\, is having an affair with Oren\, an Israeli
  married man who has frequent business visits in Berlin. When Oren dies in
  a car crash in Israel\, Thomas travels to Jerusalem seeking for answers r
 egarding his death. Under a secret identity\, Thomas infiltrates into the 
 life of Anat\, his lover&rsquo\;s newly widowed wife. The encounter with t
 he unfamiliar reality will make Thomas involved in Anat&#039\;s life in a 
 way far beyond his anticipation\, and to protect the truth he will...
DTSTART;TZID=America/Denver:20180810T190000
DTEND;TZID=America/Denver:20180816T210000
END:VEVENT
END:VCALENDAR
