BEGIN:VCALENDAR
PRODID:-//eluceo/ical//2.0/EN
VERSION:2.0
CALSCALE:GREGORIAN
BEGIN:VEVENT
UID:1fb533091070f16c8ba362cd88118da7
DTSTAMP:20260420T132921Z
SUMMARY:The Crime of Complicity:  The Bystander in the Holocaust
DESCRIPTION:United Jewish Federation of Utah\nCalendar\nhttps://shalomutah.
 org/united-jewish-federation-of-utah-calendar/the-crime-of-complicity--the
 -bystander-in-the-holocaust-1492708786\n\nAs bystanders\, we will make dec
 isions. Some affect only ourselves\; others impact our friends and family.
  Some dramatically change the lives of the people we don not personally kn
 ow and might never meet. In a difficult and possibly deadly situation\, wh
 at would you do? Would you have the courage to act? In telling the stories
  of murdered family members and the miraculous survival of his parents\, D
 r. Amos Guiora\, a University of Utah professor\, examines the role played
  by indifferent bystanders ...
DTSTART;TZID=America/Denver:20170507T100000
DTEND;TZID=America/Denver:20170507T120000
END:VEVENT
END:VCALENDAR
