BEGIN:VCALENDAR
PRODID:-//eluceo/ical//2.0/EN
VERSION:2.0
CALSCALE:GREGORIAN
BEGIN:VEVENT
UID:05bbe599bb07d61fc749064bf2b0b0ce
DTSTAMP:20260420T142516Z
SUMMARY:The Death of Cupid - Wisdom to enhance your relationships
DESCRIPTION:United Jewish Federation of Utah\nCalendar\nhttps://shalomutah.
 org/united-jewish-federation-of-utah-calendar/the-death-of-cupid---wisdom-
 to-enhance-your-relationships-1489654556\n\nThis talk about the Jewish per
 spective on relationships will be presented by Rabbi Yitz Wyne\, Young Isr
 ael Aish of Las Vegas at the Chabad Lubavitch of Utah location. The talk i
 s free.
DTSTART;TZID=America/Denver:20170321T193000
DTEND;TZID=America/Denver:20170321T210000
END:VEVENT
END:VCALENDAR
