BEGIN:VCALENDAR
PRODID:-//eluceo/ical//2.0/EN
VERSION:2.0
CALSCALE:GREGORIAN
BEGIN:VEVENT
UID:7ce0a64aada607508cfa5120aaaf9c2a
DTSTAMP:20260420T163819Z
SUMMARY:The Great Big Jewish Food Fest
DESCRIPTION:United Jewish Federation of Utah\nCalendar\nhttps://shalomutah.
 org/united-jewish-federation-of-utah-calendar/the-great-big-jewish-food-fe
 st\n\nThe Jewish Food Festival is completely free! Over 10 days we will ha
 ve a variety of events–workshops & conversations\, happy hours\, and Sha
 bbat dinners\, and so much more–which will take place over Zoom\, Instag
 ram\, and Facebook. We’ll also be unveiling a library of unique Anytime 
 Content that can be experienced during the festival. \n\nBrowse the schedu
 le and sign up for any and all events you’d like to explore. We’ll sen
 d you the link and instructions on how to participate\, then get ...
DTSTART;TZID=America/Denver:20200519T070000
DTEND;TZID=America/Denver:20200528T210000
END:VEVENT
END:VCALENDAR
