BEGIN:VCALENDAR
PRODID:-//eluceo/ical//2.0/EN
VERSION:2.0
CALSCALE:GREGORIAN
BEGIN:VEVENT
UID:9e4b65774529415e30377e4268a210ab
DTSTAMP:20260420T132936Z
SUMMARY:The History of My Family is Me
DESCRIPTION:United Jewish Federation of Utah\nCalendar\nhttps://shalomutah.
 org/united-jewish-federation-of-utah-calendar/the-history-of-my-family-is-
 me-1597434918\n\nClass & discussion led by Michael Greenfield.\nWatch the 
 film 306 Hollywood before class.\nOur conversation will focus on the film 
 306 Hollywood. Technically\, it’s a documentary\, but it’s not like an
 y you’re likely to have seen before. Two siblings undertake an archeolog
 ical excavation of their late grandmother’s house – a house she lived 
 in for the better part of a lifetime. Their whimsical cataloging of the ho
 use’s contents push viewers to consider questions about memory\, histor.
 ..
DTSTART;TZID=America/Denver:20200827T190000
DTEND;TZID=America/Denver:20200827T210000
END:VEVENT
END:VCALENDAR
