BEGIN:VCALENDAR
PRODID:-//eluceo/ical//2.0/EN
VERSION:2.0
CALSCALE:GREGORIAN
BEGIN:VEVENT
UID:6bfbe94ab0c1d13fc8e0afdb62d4aae5
DTSTAMP:20260421T040207Z
SUMMARY:The Jews of Iraq
DESCRIPTION:United Jewish Federation of Utah\nCalendar\nhttps://shalomutah.
 org/united-jewish-federation-of-utah-calendar/the-jews-of-iraq\n\nSpeaker:
  Rahel Musleah\n\nThere were once 150\,000 Jews in Iraq. Today\, there are
  5. What happened to this illustrious community\, the birthplace of the Ba
 bylonian Talmud and a rich source of cultural and scholarly life throughou
 t the centuries?\n\nAward-winning journalist\, Rahel Musleah\, who can tra
 ce her roots back to 17th century Baghdad\, will lead us on a virtual tour
  of Iraqi history\, customs\, rituals\, and music through visurals\, songs
  and stories.
DTSTART;TZID=America/Denver:20210504T190000
DTEND;TZID=America/Denver:20210504T200000
END:VEVENT
END:VCALENDAR
