BEGIN:VCALENDAR
PRODID:-//eluceo/ical//2.0/EN
VERSION:2.0
CALSCALE:GREGORIAN
BEGIN:VEVENT
UID:f0d8fc2f45810e7440b274c4114a913c
DTSTAMP:20260420T161702Z
SUMMARY:The McGillis School Annual Gala
DESCRIPTION:United Jewish Federation of Utah\nCalendar\nhttps://shalomutah.
 org/united-jewish-federation-of-utah-calendar/the-mcgillis-school-annual-g
 ala-1446494540\n\nJoin us for the 'Start of a Lifetime' Annual Gala to sup
 port The McGillis School! Each year\, The School and a generous team of pa
 rent volunteers plans and executes the community auction event filled with
  food\, fun\, and fundraising! The Gala will be at the Downtown City Creek
  Marriott and tickets go on sale on 1-16-16 at http://mcgillisschool.org/g
 iving/annual-gala
DTSTART;TZID=America/Denver:20160220T180000
DTEND;TZID=America/Denver:20160220T220000
END:VEVENT
END:VCALENDAR
