BEGIN:VCALENDAR
PRODID:-//eluceo/ical//2.0/EN
VERSION:2.0
CALSCALE:GREGORIAN
BEGIN:VEVENT
UID:28aa2a602fbd44bcbe711b8a4692ea0c
DTSTAMP:20260420T173454Z
SUMMARY:The McGillis School Gala
DESCRIPTION:United Jewish Federation of Utah\nCalendar\nhttps://shalomutah.
 org/united-jewish-federation-of-utah-calendar/the-mcgillis-school-gala-145
 6349182\n\nAll are invited to attend The Gala\, the annual fundraiser to s
 upport school programs and scholarship funds. For tickets and more informa
 tion\, please contact The School at www.mcgillisschool.org.
DTSTART;TZID=America/Denver:20170403T180000
DTEND;TZID=America/Denver:20170403T230000
END:VEVENT
END:VCALENDAR
