BEGIN:VCALENDAR
PRODID:-//eluceo/ical//2.0/EN
VERSION:2.0
CALSCALE:GREGORIAN
BEGIN:VEVENT
UID:71854366211e60fefc36f1b6390aa595
DTSTAMP:20260421T045755Z
SUMMARY:The McGillis School Prospective Parent Visit
DESCRIPTION:United Jewish Federation of Utah\nCalendar\nhttps://shalomutah.
 org/united-jewish-federation-of-utah-calendar/the-mcgillis-school-prospect
 ive-parent-visit-1445011761\n\nWelcome to the start of a lifetime. Come se
 e for yourself how a singular focus on the K-8 years can define a lifetime
  of success - academically\, ethically\, and socially. Where children beco
 me a part of something greater than themselves. Visit us soon and find out
  how your child can have the best start of all.
DTSTART;TZID=America/Denver:20160112T090000
DTEND;TZID=America/Denver:20160112T110000
END:VEVENT
END:VCALENDAR
