BEGIN:VCALENDAR
PRODID:-//eluceo/ical//2.0/EN
VERSION:2.0
CALSCALE:GREGORIAN
BEGIN:VEVENT
UID:0e9e9075a9c4c83ddd1804d6a6321885
DTSTAMP:20260420T191254Z
SUMMARY:The McGillis School: Prospective Parents Visit
DESCRIPTION:United Jewish Federation of Utah\nCalendar\nhttps://shalomutah.
 org/united-jewish-federation-of-utah-calendar/the-mcgillis-school-prospect
 ive-parents\n\nThe McGillis School: our singular focus on the K-8 years de
 fines a lifetime of success - academically\, ethically\, and socially. We 
 invite you to visit our School to learn how a McGillis education is the be
 ginning of your child's love of learning.\n\n\n\nTuesday\, January 14 at 9
  AM (Kindergarten through 8th grade) \nWednesday\, February 12\, 9 AM (Mi
 ddle School only)\n\n\n\nhttps://mcgillisschool.org/admissions/prospective
 -parent-visits﻿
DTSTART;TZID=America/Denver:20200212T090000
DTEND;TZID=America/Denver:20200212T100000
END:VEVENT
END:VCALENDAR
