BEGIN:VCALENDAR
PRODID:-//eluceo/ical//2.0/EN
VERSION:2.0
CALSCALE:GREGORIAN
BEGIN:VEVENT
UID:04048a710439e6933f289a8f770ed186
DTSTAMP:20260420T205446Z
SUMMARY:The Other Son
DESCRIPTION:United Jewish Federation of Utah\nCalendar\nhttps://shalomutah.
 org/united-jewish-federation-of-utah-calendar/the-other-son-1558113463\n\n
 A movie screening followed by a conversation about Jewish & Israeli issues
  of identity.\nTwo infants\, one Jewish-Israeli\, one Palestinian\, are sw
 itched at the hospital during the chaos of a scud missile attack. The boys
  grow up in the other family's home\, and when the mixup is discovered at 
 age 18\, the boys and their families must ask themselves some very difficu
 lt questions about what makes us who we are.\nEnglish\, French\, Arabic\, 
 Hebrew - with subtitles.\nOpen to all and free to everyone
DTSTART;TZID=America/Denver:20190718T190000
DTEND;TZID=America/Denver:20190718T203000
END:VEVENT
END:VCALENDAR
