BEGIN:VCALENDAR
PRODID:-//eluceo/ical//2.0/EN
VERSION:2.0
CALSCALE:GREGORIAN
BEGIN:VEVENT
UID:2f0d3c197b28efe7fba6b753e1240e8c
DTSTAMP:20260424T132525Z
SUMMARY:The US/Israel Relationship
DESCRIPTION:United Jewish Federation of Utah\nCalendar\nhttps://shalomutah.
 org/united-jewish-federation-of-utah-calendar/the-us-israel-relationship\n
 \nThe US/Israel Relationship
DTSTART;TZID=America/Denver:20131124T113000
DTEND;TZID=America/Denver:20131124T140000
END:VEVENT
END:VCALENDAR
