BEGIN:VCALENDAR
PRODID:-//eluceo/ical//2.0/EN
VERSION:2.0
CALSCALE:GREGORIAN
BEGIN:VEVENT
UID:b67f1a9e875a578a4f62aced8d69f69c
DTSTAMP:20260420T215942Z
SUMMARY:The Women of Har Shalom are taking a Genealogy Trip!
DESCRIPTION:United Jewish Federation of Utah\nCalendar\nhttps://shalomutah.
 org/united-jewish-federation-of-utah-calendar/the-women-of-har-shalom-are-
 taking-a-genealogy-trip\n\nDiscover your family history using the largest 
 genealogy database in the world. We will meet with a Jewish Genealogy expe
 rt.\n\nBring a bag lunch. Event is free of charge. Space is limited. You m
 ust register before August 26. Park at the Church Museum lot.
DTSTART;TZID=America/Denver:20190905T093000
DTEND;TZID=America/Denver:20190905T140000
END:VEVENT
END:VCALENDAR
