BEGIN:VCALENDAR
PRODID:-//eluceo/ical//2.0/EN
VERSION:2.0
CALSCALE:GREGORIAN
BEGIN:VEVENT
UID:a355a4ae6869d2a562a4966627a706f8
DTSTAMP:20260420T160521Z
SUMMARY:Tisha B’Av: Jews Say #CloseTheCamps Vigil
DESCRIPTION:United Jewish Federation of Utah\nCalendar\nhttps://shalomutah.
 org/united-jewish-federation-of-utah-calendar/tisha-bav-jews-say-closethec
 amps-vigil-1564622988\n\nOn August 10\, 2019\, we will use the saddest day
  (Tisha B’Av) to mourn and resist the policies of our current government
  that are endangering\, imprisoning and deporting refugees and immigrants 
 seeking safety. Join us for a Vigil at 10 am in front of the ICE building 
 in West Valley\, Utah. 
DTSTART;TZID=America/Denver:20190810T100000
DTEND;TZID=America/Denver:20190810T110000
END:VEVENT
END:VCALENDAR
