BEGIN:VCALENDAR
PRODID:-//eluceo/ical//2.0/EN
VERSION:2.0
CALSCALE:GREGORIAN
BEGIN:VEVENT
UID:2d11ed48d0fea5cc0cf031d6c26573f4
DTSTAMP:20260422T130120Z
SUMMARY:Tiz A Small World: Together From A Distance
DESCRIPTION:United Jewish Federation of Utah\nCalendar\nhttps://shalomutah.
 org/united-jewish-federation-of-utah-calendar/tiz-a-small-world-together-f
 rom-a-distance-1590111081\n\nTizmoret A Cappella is proud and excited to a
 nnounce: “Tiz A Small World: Together From A Distance\,” a collaborati
 ve virtual concert filled with music\, joy\, and celebration\, scheduled t
 o take place on Sunday\, June 14th at 5pm EST. Jewish music transcends gen
 erations\, and our goal as a group is to spread music and unity to Jewish 
 communities worldwide through our music - not just now but for years to co
 me To Register: https://hillel.zoom.us/webinar/register/WN_qv4_gTIdRAyFVDK
 d2d2Oog To Don...
DTSTART;TZID=America/Denver:20200614T150000
DTEND;TZID=America/Denver:20200614T170000
END:VEVENT
END:VCALENDAR
