BEGIN:VCALENDAR
PRODID:-//eluceo/ical//2.0/EN
VERSION:2.0
CALSCALE:GREGORIAN
BEGIN:VEVENT
UID:1fc886904bda22a5cbbba93525789a78
DTSTAMP:20260421T090634Z
SUMMARY:Torah Study for Rosh Hodesh Elul -- What does forgiveness mean
DESCRIPTION:United Jewish Federation of Utah\nCalendar\nhttps://shalomutah.
 org/united-jewish-federation-of-utah-calendar/torah-study-for-rosh-hodesh-
 elul----what-does-forgiveness-mean-1597283440\n\nכִּֽי־עִמְּך
 ָ֥ הַסְּלִיחָ֑ה לְ֝מַ֗עַן תִּוָּרֵֽא׃\nY
 ours is the power to forgive so that You will be held in awe (Psalms 130:4
 )\n\nOn Rosh Hodesh Elul\, Saturday morning August 22\, please join CBY fo
 r a conversation about forgiveness.\nThe discussion will be faciliated by 
 Maeera Shreiber\nAs we enter this season of reflection\, we will consider 
 what does it mean to forgive those who have injured us as individuals and 
 those who have injured us as a...
DTSTART;TZID=America/Denver:20200822T093000
DTEND;TZID=America/Denver:20200822T110000
END:VEVENT
END:VCALENDAR
