BEGIN:VCALENDAR
PRODID:-//eluceo/ical//2.0/EN
VERSION:2.0
CALSCALE:GREGORIAN
BEGIN:VEVENT
UID:e7adbb2b487352e6451b6d4dacb640cb
DTSTAMP:20260421T183357Z
SUMMARY:Tot Shabbat
DESCRIPTION:United Jewish Federation of Utah\nCalendar\nhttps://shalomutah.
 org/united-jewish-federation-of-utah-calendar/tot-shabbat-1478034098\n\nA 
 special service designed for families specially created for children.
DTSTART;TZID=America/Denver:20161104T183000
DTEND;TZID=America/Denver:20161104T193000
END:VEVENT
END:VCALENDAR
