BEGIN:VCALENDAR
PRODID:-//eluceo/ical//2.0/EN
VERSION:2.0
CALSCALE:GREGORIAN
BEGIN:VEVENT
UID:0f3c7e0ad50780930549312da352d89c
DTSTAMP:20260420T173058Z
SUMMARY:Tov LeNashshama - Navigating Senior Life
DESCRIPTION:United Jewish Federation of Utah\nCalendar\nhttps://shalomutah.
 org/united-jewish-federation-of-utah-calendar/tov-lenashshama---navigating
 -senior-life-1692324488\n\nIf you are making decisions about health\, acti
 vity\, and housing choices pertaining to aging\, or if you have parents or
  grandparents who are\, this presentation is a MUST. Learn how to prepare 
 for different life stages\, understand your financial and housing options\
 , and curate trusted resources so you can feel confident every step of the
  way.\n\nFree and open to the public.
DTSTART;TZID=America/Denver:20230913T183000
DTEND;TZID=America/Denver:20230913T200000
END:VEVENT
END:VCALENDAR
