BEGIN:VCALENDAR
PRODID:-//eluceo/ical//2.0/EN
VERSION:2.0
CALSCALE:GREGORIAN
BEGIN:VEVENT
UID:dba075953e17d7cfbe3de6f6a751e7d1
DTSTAMP:20260419T230733Z
SUMMARY:Towards a Better Climate Change Mythology
DESCRIPTION:United Jewish Federation of Utah\nCalendar\nhttps://shalomutah.
 org/united-jewish-federation-of-utah-calendar/towards-a-better-climate-cha
 nge-mythology-1608056003\n\nThe year 2020 was largely defined by the acute
  crisis of COVID-19 and the U.S. presidential election. With the New Year 
 upon us\, the coming inauguration of a new president\, and the arrival of 
 Tu B’Shvat\, now is the time to look anew at our Jewish texts and our ap
 proach to the climate crisis. As our planetary systems continue to destabi
 lize\, how can we access the deep sources of wisdom in our Jewish traditio
 n to tap into the power of this moment and make a lasting change?\n\nTo re
 gister for...
DTSTART;TZID=America/Denver:20210105T120000
DTEND;TZID=America/Denver:20210105T130000
END:VEVENT
END:VCALENDAR
