BEGIN:VCALENDAR
PRODID:-//eluceo/ical//2.0/EN
VERSION:2.0
CALSCALE:GREGORIAN
BEGIN:VEVENT
UID:7f5c3bfa46b4957f6ae259caafc9193d
DTSTAMP:20260422T013002Z
SUMMARY:Tu B'Shevat & Shabbat Shirah at Kol Ami
DESCRIPTION:United Jewish Federation of Utah\nCalendar\nhttps://shalomutah.
 org/united-jewish-federation-of-utah-calendar/tu-bshevat--shabbat-shirah-a
 t-kol-ami-1768347132\n\nJoin us for a joyful and meaningful Shabbat experi
 ence for the whole family! We’ll begin the evening at 5:15pm with wine a
 nd a selection of fresh and dried fruits. At 5:30pm\, Cantor Davis will sh
 are the meaning of the holiday and guide us through blessings over the fru
 its and wine\, followed by a festive dinner together.At 6:30pm\, we’ll m
 ove into the Sanctuary for a special musical service in celebration of Sha
 bbat Shirah\, the Shabbat of Song. All are welcome\, and we can’t wait t
 o celebr...
DTSTART;TZID=America/Denver:20260130T171500
DTEND;TZID=America/Denver:20260130T193000
END:VEVENT
END:VCALENDAR
