BEGIN:VCALENDAR
PRODID:-//eluceo/ical//2.0/EN
VERSION:2.0
CALSCALE:GREGORIAN
BEGIN:VEVENT
UID:8ece0208a12cb23bf4b5e99be77e9925
DTSTAMP:20260422T011030Z
SUMMARY:Tu B'Shevat at Laziz Kitchen
DESCRIPTION:United Jewish Federation of Utah\nCalendar\nhttps://shalomutah.
 org/united-jewish-federation-of-utah-calendar/tu-bshevat-at-laziz-kitchen-
 1547055665\n\nJoin us at Laziz Kitchen for a fun\, intimate night celebrat
 ing Tu B’Shevat—the Jewish New Year for the Trees.\n\nOur evening toge
 ther features incredible vegetarian/vegan food options\, Kosher wine avail
 able for purchase by the bottle\, and of course\, intentional\, engaging c
 onversation surrounding environmentalism\, climate change\, and more.\n\nL
 aziz Kitchen reimagines the Lebanese culinary tradition—honoring traditi
 onal recipes like fresh stone fired pita\, and offering new takes on old f
 a...
DTSTART;TZID=America/Denver:20190120T170000
DTEND;TZID=America/Denver:20190120T190000
END:VEVENT
END:VCALENDAR
