BEGIN:VCALENDAR
PRODID:-//eluceo/ical//2.0/EN
VERSION:2.0
CALSCALE:GREGORIAN
BEGIN:VEVENT
UID:91818166b3d059177fb66d64d2a0b06a
DTSTAMP:20260420T115742Z
SUMMARY:Tu B'Shevat & Cocktails
DESCRIPTION:United Jewish Federation of Utah\nCalendar\nhttps://shalomutah.
 org/united-jewish-federation-of-utah-calendar/tu-bshevat-cocktails\n\nJoin
  the BeeCHAIs Saturday\, February 4th\, for a cocktail party! The night w
 ill include a brief program about Tu B'Shevat and a Mixology class!\n\n 
 \n\nDate - February 4\, 2017\n\nTime  - 8:00 pm \n\nAddress - Alyssa
  and Ray Firszt2532 E. Skyline Drive SLC\, UT 84108\n\nCost - $18\n\nDres
 s Code -  Cocktail\, Casual or whatever makes you comfortable.
DTSTART;TZID=America/Denver:20170204T200000
DTEND;TZID=America/Denver:20170204T235500
END:VEVENT
END:VCALENDAR
