BEGIN:VCALENDAR
PRODID:-//eluceo/ical//2.0/EN
VERSION:2.0
CALSCALE:GREGORIAN
BEGIN:VEVENT
UID:e183d050341a1615ee1f86d63f68195e
DTSTAMP:20260421T101743Z
SUMMARY:Tu B'Shvat Seder
DESCRIPTION:United Jewish Federation of Utah\nCalendar\nhttps://shalomutah.
 org/united-jewish-federation-of-utah-calendar/tu-bshvat-seder-1451942808\n
 \nA Musical/Mystical Israeli Celebration of the Changing Seasons
DTSTART;TZID=America/Denver:20160124T170000
DTEND;TZID=America/Denver:20160124T190000
END:VEVENT
END:VCALENDAR
