BEGIN:VCALENDAR
PRODID:-//eluceo/ical//2.0/EN
VERSION:2.0
CALSCALE:GREGORIAN
BEGIN:VEVENT
UID:efd48c0c66c1627e9d20c16e699b353f
DTSTAMP:20260422T053625Z
SUMMARY:Congregation Kol Ami Tu B'Shvat Seder
DESCRIPTION:United Jewish Federation of Utah\nCalendar\nhttps://shalomutah.
 org/united-jewish-federation-of-utah-calendar/tu-bshvat-seder-1479509097\n
 \nFamily-Friendly\, Musical\, Delicious Tu B'Shvat Seder.
DTSTART;TZID=America/Denver:20170211T190000
DTEND;TZID=America/Denver:20170211T210000
END:VEVENT
END:VCALENDAR
