BEGIN:VCALENDAR
PRODID:-//eluceo/ical//2.0/EN
VERSION:2.0
CALSCALE:GREGORIAN
BEGIN:VEVENT
UID:ac841266a2c9f77ecc9296257fa51af4
DTSTAMP:20260420T021929Z
SUMMARY:UJF Girls Night Out
DESCRIPTION:United Jewish Federation of Utah\nCalendar\nhttps://shalomutah.
 org/united-jewish-federation-of-utah-calendar/ujf-girls-night-out\n\nPleas
 e join us for the United Jewish Federation of Utah “Girls’ Night Out
 ” on Wednesday\, May 27\, 2015\, at 7:00 pm\, at the home of Shelley Sch
 wartz\, 7961 Mountain Oaks Drive\, Salt Lake City\, UT 84121\, 801-942-629
 0\n\nFood:    heavy hors d'oevres and dessert will be served\n\nGuest P
 resenter:  Maeera Shriber          \n\nTopic:  The Biblical Bo
 ok of Ruth\n\nBio: Maeera is an Associate Professor in English\, and is th
 e director of Religious Studies and the Jewish Studies Init...
DTSTART;TZID=America/Denver:20150527T190000
DTEND;TZID=America/Denver:20150527T210000
END:VEVENT
END:VCALENDAR
