BEGIN:VCALENDAR
PRODID:-//eluceo/ical//2.0/EN
VERSION:2.0
CALSCALE:GREGORIAN
BEGIN:VEVENT
UID:b532382261bc63b1d490115ff58fba23
DTSTAMP:20260420T015110Z
SUMMARY:UJF Guys Night Out
DESCRIPTION:United Jewish Federation of Utah\nCalendar\nhttps://shalomutah.
 org/united-jewish-federation-of-utah-calendar/ujf-guys-night-out\n\nI’m 
 excited to invite you to our next United Jewish Federation of Utah Men’s
  Event on Thursday May 28th - at which our guest speaker will be Dr. Art L
 ipman\, long-time Salt Lake resident and international expert on pain medi
 cine and medicines used to manage pain. Please join us for a stimulating p
 resentation – and a fun & relaxing evening.\n\n \n\nDate:       
         Thursday\, May 28th\n\nTime:               6:0
 0pm – 8:00pm\n\n \n\nPlace:          ...
DTSTART;TZID=America/Denver:20150528T180000
DTEND;TZID=America/Denver:20150528T200000
END:VEVENT
END:VCALENDAR
