BEGIN:VCALENDAR
PRODID:-//eluceo/ical//2.0/EN
VERSION:2.0
CALSCALE:GREGORIAN
BEGIN:VEVENT
UID:97f03039ad87f40c591688fe89ba41f5
DTSTAMP:20260422T100237Z
SUMMARY:UJF Lunch & Learn with Prof. Jackie Osherow
DESCRIPTION:United Jewish Federation of Utah\nCalendar\nhttps://shalomutah.
 org/united-jewish-federation-of-utah-calendar/ujf-lunch--learn-with-prof-j
 ackie-osherow\n\nUJF Lunch & Learn with Prof. Jackie Osherow
DTSTART;TZID=America/Denver:20130814T110000
DTEND;TZID=America/Denver:20130814T130000
END:VEVENT
END:VCALENDAR
