BEGIN:VCALENDAR
PRODID:-//eluceo/ical//2.0/EN
VERSION:2.0
CALSCALE:GREGORIAN
BEGIN:VEVENT
UID:04ebc1917dfbf09f1023b59b29ac5e0e
DTSTAMP:20260420T112509Z
SUMMARY:UJF of UT Ben Gurion Society Gala
DESCRIPTION:United Jewish Federation of Utah\nCalendar\nhttps://shalomutah.
 org/united-jewish-federation-of-utah-calendar/ujf-of-ut-ben-gurion-society
 -gala\n\nFederation Ben Gurion Society Gala
DTSTART;TZID=America/Denver:20140309T170000
DTEND;TZID=America/Denver:20140309T173000
END:VEVENT
END:VCALENDAR
