BEGIN:VCALENDAR
PRODID:-//eluceo/ical//2.0/EN
VERSION:2.0
CALSCALE:GREGORIAN
BEGIN:VEVENT
UID:a360e66e27cd4c900be8dfb59de7e3f3
DTSTAMP:20260422T024652Z
SUMMARY:UJF of UT Women's Lunch & Learn
DESCRIPTION:United Jewish Federation of Utah\nCalendar\nhttps://shalomutah.
 org/united-jewish-federation-of-utah-calendar/ujf-of-ut-womens-lunch--lear
 n\n\nFederation Lunch & Learn
DTSTART;TZID=America/Denver:20130918T110000
DTEND;TZID=America/Denver:20130918T130000
END:VEVENT
END:VCALENDAR
