BEGIN:VCALENDAR
PRODID:-//eluceo/ical//2.0/EN
VERSION:2.0
CALSCALE:GREGORIAN
BEGIN:VEVENT
UID:6fa3c12964c739d5ede5219dbb7b01e0
DTSTAMP:20260421T065724Z
SUMMARY:United Jewish Federation Community Dinner 2016
DESCRIPTION:United Jewish Federation of Utah\nCalendar\nhttps://shalomutah.
 org/united-jewish-federation-of-utah-calendar/united-jewish-federation-com
 munity-dinner-2016\n\nCome\, relax with friends after the election\, and 
 enjoy the Federation informative and fun Community Dinner\, highlighting H
 illel of Utah. Special guest: comedian Amanda Marks. $54 per person. RSVP 
 and payment: https://utah.secure-fedweb.jewishfederations.org/page/contri
 bute/annual-community-dinner-2016\n\nQuestions: Drora Oren 801-581-0102 d
 oren@shalomutah.org \n\nLooking forward to see you!
DTSTART;TZID=America/Denver:20161110T180000
DTEND;TZID=America/Denver:20161110T210000
END:VEVENT
END:VCALENDAR
