BEGIN:VCALENDAR
PRODID:-//eluceo/ical//2.0/EN
VERSION:2.0
CALSCALE:GREGORIAN
BEGIN:VEVENT
UID:bfc9658df6defc26d52bb7db46089cba
DTSTAMP:20260420T131413Z
SUMMARY:United Jewish Federation Lunch & Learn
DESCRIPTION:United Jewish Federation of Utah\nCalendar\nhttps://shalomutah.
 org/united-jewish-federation-of-utah-calendar/united-jewish-federation-lun
 ch--learn-1418861769\n\nPlease join us for Lunch and Learn with Professor 
 Jackie Osherow on Wednesday\, January 7\, 2015\, 12:00am-2:00pm\, at the J
 upiter Bowl in Park City.\nReading Prep: We are excited to continue our ne
 w session of study emphasizing the role of women with the story of Judith 
 (we&rsquo\;ll provide copies of the KJ translationof the Book of Judith). 
 \nDiscussion Leader:  Professor Jackie Osherow\, distinguished Professor o
 f English at the University of Utah\nSponsors:  We would like to thank our
  2014-15...
DTSTART;TZID=America/Denver:20150107T120000
DTEND;TZID=America/Denver:20150107T140000
END:VEVENT
END:VCALENDAR
