BEGIN:VCALENDAR
PRODID:-//eluceo/ical//2.0/EN
VERSION:2.0
CALSCALE:GREGORIAN
BEGIN:VEVENT
UID:eef82a1b33b02a2285ee1044f844f8d3
DTSTAMP:20260421T005047Z
SUMMARY:United Jewish Federation Lunch and Learn
DESCRIPTION:United Jewish Federation of Utah\nCalendar\nhttps://shalomutah.
 org/united-jewish-federation-of-utah-calendar/united-jewish-federation-lun
 ch-and-learn-1421084461\n\nPlease join us for Lunch and Learn on Thursday\
 , February 19\, 2015\, 12:00am-2:00pm\, at the home of Andy Barros in Park
  City.\nDiscussion Leader:  Professor Jackie Osherow\, distinguished Profe
 ssor of English at the University of Utah\nReading Prep: We are excited to
  continue our new session of study emphasizing the role of women with the 
 story of Judith.  Jackie has asked that you read Judith in advance as we w
 ill not be reading it fully in class. You can download the KJ version from
  the...
DTSTART;TZID=America/Denver:20150219T120000
DTEND;TZID=America/Denver:20150219T140000
END:VEVENT
END:VCALENDAR
