BEGIN:VCALENDAR
PRODID:-//eluceo/ical//2.0/EN
VERSION:2.0
CALSCALE:GREGORIAN
BEGIN:VEVENT
UID:7fdf928d86d399649e6100df466f8c1e
DTSTAMP:20260422T022029Z
SUMMARY:United Jewish Federation Lunch and Learn
DESCRIPTION:United Jewish Federation of Utah\nCalendar\nhttps://shalomutah.
 org/united-jewish-federation-of-utah-calendar/united-jewish-federation-lun
 ch-and-learn-1421084943\n\nPlease join us for Lunch and Learn on Wednesday
 \, March 4\, 2015\, 12:00am-2:00pm\, at the home of Sheri Jaffa\, Park Cit
 y.\nDiscussion Leader:  Professor Jackie Osherow\, distinguished Professor
  of English at the University of Utah\nReading Prep: We are excited to con
 tinue our new session of study emphasizing the role of women with the stor
 y of Esther.\n We would like to thank our 2014-15 Sponsors\, who make this
  series possible: Linda Brownstein\, Tamara Bush\, Ruth Davidson\, Liz Fel
 lows\, Cathy...
DTSTART;TZID=America/Denver:20150304T120000
DTEND;TZID=America/Denver:20150304T140000
END:VEVENT
END:VCALENDAR
