BEGIN:VCALENDAR
PRODID:-//eluceo/ical//2.0/EN
VERSION:2.0
CALSCALE:GREGORIAN
BEGIN:VEVENT
UID:e5fa4a43c7dc2edc2de107a26ab28bd1
DTSTAMP:20260420T092335Z
SUMMARY:United Jewish Federation Lunch and Learn November 2016
DESCRIPTION:United Jewish Federation of Utah\nCalendar\nhttps://shalomutah.
 org/united-jewish-federation-of-utah-calendar/united-jewish-federation-lun
 ch-and-learn-november-2016\n\nGuest Presenter: Rabbi Ilana Schwartzman.\n\
 nTopic: Judaism and Women\n\nLocation: TBD in Park City\n\nCost: Free
DTSTART;TZID=America/Denver:20161109T120000
DTEND;TZID=America/Denver:20161109T140000
END:VEVENT
END:VCALENDAR
