BEGIN:VCALENDAR
PRODID:-//eluceo/ical//2.0/EN
VERSION:2.0
CALSCALE:GREGORIAN
BEGIN:VEVENT
UID:d309aa9f144f5b2d7fce7be462c00792
DTSTAMP:20260420T175014Z
SUMMARY:United Jewish Federation of UT Lunch & Learn
DESCRIPTION:United Jewish Federation of Utah\nCalendar\nhttps://shalomutah.
 org/united-jewish-federation-of-utah-calendar/united-jewish-federation-of-
 ut-lunch--learn\n\nUJF of UT Lunch & Learn
DTSTART;TZID=America/Denver:20140205T110000
DTEND;TZID=America/Denver:20140205T130000
END:VEVENT
END:VCALENDAR
