BEGIN:VCALENDAR
PRODID:-//eluceo/ical//2.0/EN
VERSION:2.0
CALSCALE:GREGORIAN
BEGIN:VEVENT
UID:8c2181eeadafdc2a042ef5da17d2090e
DTSTAMP:20260420T163341Z
SUMMARY:United Jewish Federation of UT Lunch and Learn December 2016
DESCRIPTION:United Jewish Federation of Utah\nCalendar\nhttps://shalomutah.
 org/united-jewish-federation-of-utah-calendar/united-jewish-federation-of-
 ut-lunch-and-learn-december-2016\n\nGuest Presenter: Rabbi Benny Zippel\n\
 nTopic: Women and Judaism\n\nLocation: TBD in Park City\n\nCost: Free
DTSTART;TZID=America/Denver:20161207T120000
DTEND;TZID=America/Denver:20161207T140000
END:VEVENT
END:VCALENDAR
