BEGIN:VCALENDAR
PRODID:-//eluceo/ical//2.0/EN
VERSION:2.0
CALSCALE:GREGORIAN
BEGIN:VEVENT
UID:98f64348d5c8490c5048a151ba831f41
DTSTAMP:20260420T215133Z
SUMMARY:United Jewish Federation of UT Summer Fundraising Event 2016
DESCRIPTION:United Jewish Federation of Utah\nCalendar\nhttps://shalomutah.
 org/united-jewish-federation-of-utah-calendar/united-jewish-federation-of-
 ut-summer-party-2016\n\nJoin us for a fun evening of BBQ Dinner and live 
 entertainment at the Jeremy Ranch Golf & Country Club\, 8770 Jeremy Road\
 , Park City 84098. Cowboy attire is encouraged!
DTSTART;TZID=America/Denver:20160720T183000
DTEND;TZID=America/Denver:20160720T210000
END:VEVENT
END:VCALENDAR
