BEGIN:VCALENDAR
PRODID:-//eluceo/ical//2.0/EN
VERSION:2.0
CALSCALE:GREGORIAN
BEGIN:VEVENT
UID:65b75c863f2b97101664eb5dd79c735f
DTSTAMP:20260419T183955Z
SUMMARY:United Jewish Federation of Utah
DESCRIPTION:United Jewish Federation of Utah\nCalendar\nhttps://shalomutah.
 org/united-jewish-federation-of-utah-calendar/united-jewish-federation-of-
 utah-1421086850\n\nPlease join us for Lunch and Learn on Wednesday\, May 6
 \, 2015\, 12:00am-2:00pm\, at the home of TBD\, Park City.\nDiscussion Lea
 der:  Professor Jackie Osherow\, distinguished Professor of English at the
  University of Utah\nReading Prep: We are excited to continue our new sess
 ion of study emphasizing the role of women in the Bible.\n We would like t
 o thank our 2014-15 Sponsors\, who make this series possible: Linda Browns
 tein\, Tamara Bush\, Ruth Davidson\, Liz Fellows\, Cathy Goldman\, Donna G
 ordon\,...
DTSTART;TZID=America/Denver:20150506T120000
DTEND;TZID=America/Denver:20150506T140000
END:VEVENT
END:VCALENDAR
