BEGIN:VCALENDAR
PRODID:-//eluceo/ical//2.0/EN
VERSION:2.0
CALSCALE:GREGORIAN
BEGIN:VEVENT
UID:b970b51e2cb5bf8abe893d38ea904bba
DTSTAMP:20260419T201220Z
SUMMARY:UJF Women Lunch & Learn
DESCRIPTION:United Jewish Federation of Utah\nCalendar\nhttps://shalomutah.
 org/united-jewish-federation-of-utah-calendar/united-jewish-federation-of-
 utah-1421087044\n\nPlease join us for Lunch and Learn on Wednesday\, June 
 3\, 2015\, 12:00am-2:00pm\, at the home of Ida Yoked\, Park City.\nDiscuss
 ion Leader:  Professor Jackie Osherow\, distinguished Professor of English
  at the University of Utah\nReading Prep: We are excited to continue our n
 ew session of study emphasizing the role of women with the role of women i
 n the Bible.\n We would like to thank our 2014-15 Sponsors\, who make this
  series possible: Amy Baker\, Linda Brownstein\, Tamara Bush\, Ruth Davids
 on\, Liz...
DTSTART;TZID=America/Denver:20150603T120000
DTEND;TZID=America/Denver:20150603T140000
END:VEVENT
END:VCALENDAR
