BEGIN:VCALENDAR
PRODID:-//eluceo/ical//2.0/EN
VERSION:2.0
CALSCALE:GREGORIAN
BEGIN:VEVENT
UID:819b8460d890d8c1352dc7725d581910
DTSTAMP:20260419T232407Z
SUMMARY:UJF Women Lunch & Learn
DESCRIPTION:United Jewish Federation of Utah\nCalendar\nhttps://shalomutah.
 org/united-jewish-federation-of-utah-calendar/united-jewish-federation-of-
 utah-1421087227\n\nPlease join us for Lunch and Learn on Wednesday\, March
  4\, 2015\, 12:00am-2:00pm\, at the home of Julie Senet\, Park City.\nDisc
 ussion Leader:  Professor Jackie Osherow\, distinguished Professor of Engl
 ish at the University of Utah\nReading Prep: We are excited to continue ou
 r new session of study emphasizing the role of women in the Bible.\n We wo
 uld like to thank our 2014-15 Sponsors\, who make this series possible: Li
 nda Brownstein\, Tamara Bush\, Ruth Davidson\, Liz Fellows\, Cathy Goldman
 \, Donna...
DTSTART;TZID=America/Denver:20150708T120000
DTEND;TZID=America/Denver:20150708T140000
END:VEVENT
END:VCALENDAR
