BEGIN:VCALENDAR
PRODID:-//eluceo/ical//2.0/EN
VERSION:2.0
CALSCALE:GREGORIAN
BEGIN:VEVENT
UID:d750a3751c58052c031c1af7b23115f4
DTSTAMP:20260419T232347Z
SUMMARY:UJF Women Lunch & Learn
DESCRIPTION:United Jewish Federation of Utah\nCalendar\nhttps://shalomutah.
 org/united-jewish-federation-of-utah-calendar/united-jewish-federation-of-
 utah-1421087432\n\nPlease join us for Lunch and Learn on Wednesday\, Augus
 t 5\, 2015\, 12:00pm-2:00pm\, at the home of Linda Brownstein\, Park City.
 \nDiscussion Leader:  Professor Jackie Osherow\, distinguished Professor o
 f English at the University of Utah\nReading Prep: We are excited to conti
 nue our new session of study emphasizing the role of women in the Bible.\n
  We would like to thank our 2014-15 Sponsors\, who make this series possib
 le: Linda Brownstein\, Tamara Bush\, Ruth Davidson\, Liz Fellows\, Cathy G
 oldman\,...
DTSTART;TZID=America/Denver:20150805T120000
DTEND;TZID=America/Denver:20150805T140000
END:VEVENT
END:VCALENDAR
