BEGIN:VCALENDAR
PRODID:-//eluceo/ical//2.0/EN
VERSION:2.0
CALSCALE:GREGORIAN
BEGIN:VEVENT
UID:a3e1793695138864c039c681e75c6622
DTSTAMP:20260420T081206Z
SUMMARY:Holocaust Commemoration Day
DESCRIPTION:United Jewish Federation of Utah\nCalendar\nhttps://shalomutah.
 org/united-jewish-federation-of-utah-calendar/united-jewish-federation-of-
 utah-1421087610\n\nPlease join us for Yom Hashoah (Holocaust Day) commemor
 ation at the JCC at 12 noon.
DTSTART;TZID=America/Denver:20150416T130000
DTEND;TZID=America/Denver:20150416T140000
END:VEVENT
END:VCALENDAR
