BEGIN:VCALENDAR
PRODID:-//eluceo/ical//2.0/EN
VERSION:2.0
CALSCALE:GREGORIAN
BEGIN:VEVENT
UID:80e43483b3b7ae81b4269b4b5626410c
DTSTAMP:20260419T151518Z
SUMMARY:United Jewish Federation of Utah Annual Business Meeting
DESCRIPTION:United Jewish Federation of Utah\nCalendar\nhttps://shalomutah.
 org/united-jewish-federation-of-utah-calendar/united-jewish-federation-of-
 utah-annual-business-meeting\n\nUJF of UT Annual Meeting
DTSTART;TZID=America/Denver:20130814T190000
DTEND;TZID=America/Denver:20130814T203000
END:VEVENT
END:VCALENDAR
