BEGIN:VCALENDAR
PRODID:-//eluceo/ical//2.0/EN
VERSION:2.0
CALSCALE:GREGORIAN
BEGIN:VEVENT
UID:2c425b839421b580f2fe16f7352a9b4e
DTSTAMP:20260419T195522Z
SUMMARY:United Jewish Federation of Utah Board Meeting
DESCRIPTION:United Jewish Federation of Utah\nCalendar\nhttps://shalomutah.
 org/united-jewish-federation-of-utah-calendar/united-jewish-federation-of-
 utah-board-meeting-1421779383\n\nUnited Jewish Federation of Utah Board Me
 eting at the JCC at 6:00pm
DTSTART;TZID=America/Denver:20150122T180000
DTEND;TZID=America/Denver:20150122T200000
END:VEVENT
END:VCALENDAR
