BEGIN:VCALENDAR
PRODID:-//eluceo/ical//2.0/EN
VERSION:2.0
CALSCALE:GREGORIAN
BEGIN:VEVENT
UID:24f48d9b8636d27da54c2aa5eb780f95
DTSTAMP:20260419T203201Z
SUMMARY:United Jewish Federation of Utah Board Meeting
DESCRIPTION:United Jewish Federation of Utah\nCalendar\nhttps://shalomutah.
 org/united-jewish-federation-of-utah-calendar/united-jewish-federation-of-
 utah-board-meeting-1421779537\n\nUnited Jewish Federation of Utah Board Me
 eting at the JCC at 6:00pm
DTSTART;TZID=America/Denver:20150310T180000
DTEND;TZID=America/Denver:20150310T200000
END:VEVENT
END:VCALENDAR
