BEGIN:VCALENDAR
PRODID:-//eluceo/ical//2.0/EN
VERSION:2.0
CALSCALE:GREGORIAN
BEGIN:VEVENT
UID:6c8d7ffbba38de267cf5aafed2071cc0
DTSTAMP:20260419T170020Z
SUMMARY:UJF Board Meeting 
DESCRIPTION:United Jewish Federation of Utah\nCalendar\nhttps://shalomutah.
 org/united-jewish-federation-of-utah-calendar/united-jewish-federation-of-
 utah-board-meeting-1421779822\n\nUnited Jewish Federation of Utah Board Me
 eting at the JCC at 6:00pm
DTSTART;TZID=America/Denver:20150714T180000
DTEND;TZID=America/Denver:20150714T200000
END:VEVENT
END:VCALENDAR
