BEGIN:VCALENDAR
PRODID:-//eluceo/ical//2.0/EN
VERSION:2.0
CALSCALE:GREGORIAN
BEGIN:VEVENT
UID:1fbf5b77b391285e6cd63891af6b1217
DTSTAMP:20260419T181116Z
SUMMARY:Federation Board Meeting 
DESCRIPTION:United Jewish Federation of Utah\nCalendar\nhttps://shalomutah.
 org/united-jewish-federation-of-utah-calendar/united-jewish-federation-of-
 utah-board-meeting-and-annual-meeting-at-700pm-1421780105\n\nUnited Jewish
  Federation of Utah Board Meeting at the JCC at 6:00pm and Annual Meeting 
 at 7:00pm
DTSTART;TZID=America/Denver:20150910T180000
DTEND;TZID=America/Denver:20150910T200000
END:VEVENT
END:VCALENDAR
