BEGIN:VCALENDAR
PRODID:-//eluceo/ical//2.0/EN
VERSION:2.0
CALSCALE:GREGORIAN
BEGIN:VEVENT
UID:eae432815b89b5f0db7f75b93c9e5b1e
DTSTAMP:20260419T185155Z
SUMMARY:Federation Board Meeting at the JCC at 6:00pm
DESCRIPTION:United Jewish Federation of Utah\nCalendar\nhttps://shalomutah.
 org/united-jewish-federation-of-utah-calendar/united-jewish-federation-of-
 utah-board-meeting-at-the-jcc-at-600pm-1421780260\n\nUnited Jewish Federat
 ion of Utah Board Meeting at the JCC at 6:00pm
DTSTART;TZID=America/Denver:20151013T180000
DTEND;TZID=America/Denver:20151013T200000
END:VEVENT
END:VCALENDAR
