BEGIN:VCALENDAR
PRODID:-//eluceo/ical//2.0/EN
VERSION:2.0
CALSCALE:GREGORIAN
BEGIN:VEVENT
UID:dc4f97aa1e7fbabdf58acf30f5eb6ff6
DTSTAMP:20260419T183216Z
SUMMARY:Federation Community Dinner at the JCC at 6:00pm
DESCRIPTION:United Jewish Federation of Utah\nCalendar\nhttps://shalomutah.
 org/united-jewish-federation-of-utah-calendar/united-jewish-federation-of-
 utah-board-meeting-at-the-jcc-at-600pm-1421780351\n\nUnited Jewish Federat
 ion of Utah Community Dinner.\n\nPlease join us for a wonderful get togeth
 er of our Utah Jewish Community. Dinner and program\, JCC\, SLC\, 6:00PM
DTSTART;TZID=America/Denver:20151117T180000
DTEND;TZID=America/Denver:20151117T210000
END:VEVENT
END:VCALENDAR
