BEGIN:VCALENDAR
PRODID:-//eluceo/ical//2.0/EN
VERSION:2.0
CALSCALE:GREGORIAN
BEGIN:VEVENT
UID:781c175fa3c84493ddde369b3fb30e1c
DTSTAMP:20260420T131846Z
SUMMARY:United Jewish Federation of Utah Community Dinner
DESCRIPTION:United Jewish Federation of Utah\nCalendar\nhttps://shalomutah.
 org/united-jewish-federation-of-utah-calendar/united-jewish-federation-of-
 utah-community-dinner\n\nUJF of UT Community Dinner
DTSTART;TZID=America/Denver:20131121T180000
DTEND;TZID=America/Denver:20131121T203000
END:VEVENT
END:VCALENDAR
